BEGIN:VCALENDAR
VERSION:2.0
PRODID:-//eventon.com NONSGML v1.0//EN
CALSCALE:GREGORIAN
METHOD:PUBLISH
BEGIN:VEVENT
UID:69e755b8df195
DTSTAMP:20260421T124720
DTSTART:20260531T081500Z
DTEND:20260531T215900Z
TZID:Europe/Berlin
LOCATION:Stadtpfarrkirche 
SUMMARY:Gottesdienst der Pfarreiengemeinschaft
DESCRIPTION: Gottesdienst der Pfarreiengemeinschaft\nhttps://pg-mariaehimmelfahrt.de/events/gottesdienst-der-pfarreiengemeinschaft-32/
URL:https://pg-mariaehimmelfahrt.de/events/gottesdienst-der-pfarreiengemeinschaft-32/
END:VEVENT
END:VCALENDAR