BEGIN:VCALENDAR
VERSION:2.0
PRODID:-//eventon.com NONSGML v1.0//EN
CALSCALE:GREGORIAN
METHOD:PUBLISH
BEGIN:VEVENT
UID:69e74e4e5e47d
DTSTAMP:20260421T121542
DTSTART:20260510T081500Z
DTEND:20260510T215900Z
TZID:Europe/Berlin
LOCATION:Stadtpfarrkirche 
SUMMARY:Gottesdienst der Pfarreiengemeinschaft
DESCRIPTION: Gottesdienst der Pfarreiengemeinschaft\nhttps://pg-mariaehimmelfahrt.de/events/gottesdienst-der-pfarreiengemeinschaft-29/
URL:https://pg-mariaehimmelfahrt.de/events/gottesdienst-der-pfarreiengemeinschaft-29/
END:VEVENT
END:VCALENDAR