BEGIN:VCALENDAR
VERSION:2.0
PRODID:-//eventon.com NONSGML v1.0//EN
CALSCALE:GREGORIAN
METHOD:PUBLISH
BEGIN:VEVENT
UID:69e7548fe456e
DTSTAMP:20260421T124223
DTSTART:20260501T170000Z
DTEND:20260501T215900Z
TZID:Europe/Berlin
LOCATION:Stadtpfarrkirche 
SUMMARY:1. feierliche Maiandacht
DESCRIPTION: 1. feierliche Maiandacht\nhttps://pg-mariaehimmelfahrt.de/events/1-feierliche-maiandacht/
URL:https://pg-mariaehimmelfahrt.de/events/1-feierliche-maiandacht/
END:VEVENT
END:VCALENDAR