BEGIN:VCALENDAR
VERSION:2.0
PRODID:-//eventon.com NONSGML v1.0//EN
CALSCALE:GREGORIAN
METHOD:PUBLISH
BEGIN:VEVENT
UID:69e7566338805
DTSTAMP:20260421T125011
DTSTART:20260419T081500Z
DTEND:20260419T215900Z
TZID:Europe/Berlin
LOCATION:Stadtpfarrkirche 
SUMMARY:Gottesdienst der Pfarreiengemeinschaft
DESCRIPTION: Gottesdienst der Pfarreiengemeinschaft\nhttps://pg-mariaehimmelfahrt.de/events/gottesdienst-der-pfarreiengemeinschaft-27/
URL:https://pg-mariaehimmelfahrt.de/events/gottesdienst-der-pfarreiengemeinschaft-27/
END:VEVENT
END:VCALENDAR