BEGIN:VCALENDAR
VERSION:2.0
PRODID:-//eventon.com NONSGML v1.0//EN
CALSCALE:GREGORIAN
METHOD:PUBLISH
BEGIN:VEVENT
UID:69e756338f400
DTSTAMP:20260421T124923
DTSTART:20260402T170000Z
DTEND:20260402T215900Z
TZID:Europe/Berlin
LOCATION:Stadtpfarrkirche 
SUMMARY:Abendmahlfeier m. Fußwaschung
DESCRIPTION: Abendmahlfeier m. Fußwaschung\nhttps://pg-mariaehimmelfahrt.de/events/abendmahlfeier-m-fusswaschung/
URL:https://pg-mariaehimmelfahrt.de/events/abendmahlfeier-m-fusswaschung/
END:VEVENT
END:VCALENDAR