BEGIN:VCALENDAR
VERSION:2.0
PRODID:-//eventon.com NONSGML v1.0//EN
CALSCALE:GREGORIAN
METHOD:PUBLISH
BEGIN:VEVENT
UID:69e7566338de3
DTSTAMP:20260421T125011
DTSTART:20260402T150000Z
DTEND:20260402T215900Z
TZID:Europe/Berlin
LOCATION:Stadtpfarrkirche 
SUMMARY:Beichtgelegenheit
DESCRIPTION: Beichtgelegenheit\nhttps://pg-mariaehimmelfahrt.de/events/beichtgelegenheit-7/
URL:https://pg-mariaehimmelfahrt.de/events/beichtgelegenheit-7/
END:VEVENT
END:VCALENDAR