BEGIN:VCALENDAR
VERSION:2.0
PRODID:-//eventon.com NONSGML v1.0//EN
CALSCALE:GREGORIAN
METHOD:PUBLISH
BEGIN:VEVENT
UID:69e75547e282e
DTSTAMP:20260421T124527
DTSTART:20250928T081500Z
DTEND:20250928T215900Z
TZID:Europe/Berlin
LOCATION:Elisabethraum 
SUMMARY:Kinderkirche
DESCRIPTION: Kinderkirche\nhttps://pg-mariaehimmelfahrt.de/events/kinderkirche-4/
URL:https://pg-mariaehimmelfahrt.de/events/kinderkirche-4/
END:VEVENT
END:VCALENDAR